BEGIN:VCALENDAR
VERSION:2.0
PRODID:-//The Ohio Federation of Music Clubs - ECPv6.15.20//NONSGML v1.0//EN
CALSCALE:GREGORIAN
METHOD:PUBLISH
X-ORIGINAL-URL:https://ofmc.org
X-WR-CALDESC:Events for The Ohio Federation of Music Clubs
REFRESH-INTERVAL;VALUE=DURATION:PT1H
X-Robots-Tag:noindex
X-PUBLISHED-TTL:PT1H
BEGIN:VTIMEZONE
TZID:America/Detroit
BEGIN:DAYLIGHT
TZOFFSETFROM:-0500
TZOFFSETTO:-0400
TZNAME:EDT
DTSTART:20240310T070000
END:DAYLIGHT
BEGIN:STANDARD
TZOFFSETFROM:-0400
TZOFFSETTO:-0500
TZNAME:EST
DTSTART:20241103T060000
END:STANDARD
BEGIN:DAYLIGHT
TZOFFSETFROM:-0500
TZOFFSETTO:-0400
TZNAME:EDT
DTSTART:20250309T070000
END:DAYLIGHT
BEGIN:STANDARD
TZOFFSETFROM:-0400
TZOFFSETTO:-0500
TZNAME:EST
DTSTART:20251102T060000
END:STANDARD
BEGIN:DAYLIGHT
TZOFFSETFROM:-0500
TZOFFSETTO:-0400
TZNAME:EDT
DTSTART:20260308T070000
END:DAYLIGHT
BEGIN:STANDARD
TZOFFSETFROM:-0400
TZOFFSETTO:-0500
TZNAME:EST
DTSTART:20261101T060000
END:STANDARD
END:VTIMEZONE
BEGIN:VEVENT
DTSTART;VALUE=DATE:20250101
DTEND;VALUE=DATE:20250102
DTSTAMP:20260425T204743
CREATED:20241123T211122Z
LAST-MODIFIED:20241123T211122Z
UID:10000092-1735689600-1735775999@ofmc.org
SUMMARY:District III-C Festival Application Deadline
DESCRIPTION:District III-C Junior Music Festival is February 22\, 2025. \nFestival Chair\, Ellen Raquet \nGold Cup Chair\, Debbie Dustin
URL:https://ofmc.org/event/district-iii-c-festival-application-deadline/
CATEGORIES:Festivals
ORGANIZER;CN="Ellen Raquet":MAILTO:ellen.g.raquet@gmail.com
END:VEVENT
BEGIN:VEVENT
DTSTART;VALUE=DATE:20250113
DTEND;VALUE=DATE:20250114
DTSTAMP:20260425T204743
CREATED:20241122T214743Z
LAST-MODIFIED:20250922T193700Z
UID:10000070-1736726400-1736812799@ofmc.org
SUMMARY:District II Festival Application Deadline
DESCRIPTION:District II Junior Music Festival is March 8 and 15\, 2025. \nFestival Chair\, Marie Nichols \nGold Cup Chair\, Andrea Keil
URL:https://ofmc.org/event/district-ii-festival-application-deadline/
CATEGORIES:Festivals
ORGANIZER;CN="Marie Nichols":MAILTO:nmusiccenter@mail.com
END:VEVENT
BEGIN:VEVENT
DTSTART;VALUE=DATE:20250115
DTEND;VALUE=DATE:20250116
DTSTAMP:20260425T204743
CREATED:20241123T213036Z
LAST-MODIFIED:20250922T201156Z
UID:10000106-1736899200-1736985599@ofmc.org
SUMMARY:District III-F Festival Application Deadline
DESCRIPTION:District III-F Junior Music Festival is March 20-21\, 2026. \nFestival Chair\, Jon Sanford \nGold Cup Chair\, Judy Bohne \n 
URL:https://ofmc.org/event/district-iii-f-festival-application-deadline/
CATEGORIES:Festivals
ORGANIZER;CN="Jon Sanford":MAILTO:director@oxfordmusicacademy.com
END:VEVENT
BEGIN:VEVENT
DTSTART;TZID=America/Detroit:20250115T080000
DTEND;TZID=America/Detroit:20250115T170000
DTSTAMP:20260425T204743
CREATED:20241122T212223Z
LAST-MODIFIED:20241122T212223Z
UID:10000043-1736928000-1736960400@ofmc.org
SUMMARY:District I-A Festival Application Deadline
DESCRIPTION:District I-A Junior Music Festival is March 14-16\, 2025 \nFestival Chair\, Patti Evans \nGold Cup Chair\, Karen Spisak
URL:https://ofmc.org/event/district-i-a-festival-application-deadline/
CATEGORIES:Festivals
ORGANIZER;CN="Patti Evans":MAILTO:ofmcfestival1a@gmail.com
END:VEVENT
BEGIN:VEVENT
DTSTART;VALUE=DATE:20250119
DTEND;VALUE=DATE:20250120
DTSTAMP:20260425T204743
CREATED:20241122T213937Z
LAST-MODIFIED:20241122T213937Z
UID:10000060-1737244800-1737331199@ofmc.org
SUMMARY:District I-D Festival Application Deadline
DESCRIPTION:District I-D Junior Music Festival is March 8\, 2025. \nFestival Chair\, Coren Mino \nFestival Co-Chair\, Ashley Fair \nGold Cup Chair\, Ellen Backman
URL:https://ofmc.org/event/district-i-d-festival-application-deadline/
CATEGORIES:Festivals
ORGANIZER;CN="Coren Mino":MAILTO:ofmc1d@gmail.com
END:VEVENT
END:VCALENDAR