BEGIN:VCALENDAR
VERSION:2.0
PRODID:-//The Ohio Federation of Music Clubs - ECPv6.15.20//NONSGML v1.0//EN
CALSCALE:GREGORIAN
METHOD:PUBLISH
X-WR-CALNAME:The Ohio Federation of Music Clubs
X-ORIGINAL-URL:https://ofmc.org
X-WR-CALDESC:Events for The Ohio Federation of Music Clubs
REFRESH-INTERVAL;VALUE=DURATION:PT1H
X-Robots-Tag:noindex
X-PUBLISHED-TTL:PT1H
BEGIN:VTIMEZONE
TZID:America/Detroit
BEGIN:DAYLIGHT
TZOFFSETFROM:-0500
TZOFFSETTO:-0400
TZNAME:EDT
DTSTART:20240310T070000
END:DAYLIGHT
BEGIN:STANDARD
TZOFFSETFROM:-0400
TZOFFSETTO:-0500
TZNAME:EST
DTSTART:20241103T060000
END:STANDARD
BEGIN:DAYLIGHT
TZOFFSETFROM:-0500
TZOFFSETTO:-0400
TZNAME:EDT
DTSTART:20250309T070000
END:DAYLIGHT
BEGIN:STANDARD
TZOFFSETFROM:-0400
TZOFFSETTO:-0500
TZNAME:EST
DTSTART:20251102T060000
END:STANDARD
BEGIN:DAYLIGHT
TZOFFSETFROM:-0500
TZOFFSETTO:-0400
TZNAME:EDT
DTSTART:20260308T070000
END:DAYLIGHT
BEGIN:STANDARD
TZOFFSETFROM:-0400
TZOFFSETTO:-0500
TZNAME:EST
DTSTART:20261101T060000
END:STANDARD
END:VTIMEZONE
BEGIN:VEVENT
DTSTART;VALUE=DATE:20250201
DTEND;VALUE=DATE:20250202
DTSTAMP:20260422T054201
CREATED:20241122T212807Z
LAST-MODIFIED:20250922T143956Z
UID:10000053-1738368000-1738454399@ofmc.org
SUMMARY:District I-B Festival Application Deadline
DESCRIPTION:District I-B Junior Music Festival is March 7\, 2026. \nFestival Chair\, Elena Mavar \nGold Cup Chair\, Mark Smallwood
URL:https://ofmc.org/event/district-i-b-festival-application-deadline/
CATEGORIES:Festivals
ORGANIZER;CN="Elena Mavar":MAILTO:emavar@ymail.com
END:VEVENT
BEGIN:VEVENT
DTSTART;VALUE=DATE:20250201
DTEND;VALUE=DATE:20250202
DTSTAMP:20260422T054201
CREATED:20241122T215607Z
LAST-MODIFIED:20241122T215607Z
UID:10000077-1738368000-1738454399@ofmc.org
SUMMARY:District III-A Festival Application Deadline
DESCRIPTION:District III-A Junior Music Festival is March 22\, 2025. \nFestival Chair\, Irene Sakelos \nGold Cup Chair\, Irene Sakelos \n 
URL:https://ofmc.org/event/district-iii-a-festival-application-deadline/
CATEGORIES:Festivals
ORGANIZER;CN="Irene Sakelos":MAILTO:jamminmelody@aol.com
END:VEVENT
BEGIN:VEVENT
DTSTART;VALUE=DATE:20250222
DTEND;VALUE=DATE:20250223
DTSTAMP:20260422T054201
CREATED:20241123T211410Z
LAST-MODIFIED:20241123T211410Z
UID:10000097-1740182400-1740268799@ofmc.org
SUMMARY:District III-C Junior Music Festival
DESCRIPTION:Festival Chair\, Ellen Raquet \nGold Cup Chair\, Debbie Dustin \nApplication Deadline is January 1\, 2025
URL:https://ofmc.org/event/district-iii-c-junior-music-festival/
LOCATION:Cedarville University
CATEGORIES:Festivals
ORGANIZER;CN="Ellen Raquet":MAILTO:ellen.g.raquet@gmail.com
END:VEVENT
END:VCALENDAR