BEGIN:VCALENDAR
VERSION:2.0
PRODID:-//The Ohio Federation of Music Clubs - ECPv6.15.20//NONSGML v1.0//EN
CALSCALE:GREGORIAN
METHOD:PUBLISH
X-ORIGINAL-URL:https://ofmc.org
X-WR-CALDESC:Events for The Ohio Federation of Music Clubs
REFRESH-INTERVAL;VALUE=DURATION:PT1H
X-Robots-Tag:noindex
X-PUBLISHED-TTL:PT1H
BEGIN:VTIMEZONE
TZID:America/Detroit
BEGIN:DAYLIGHT
TZOFFSETFROM:-0500
TZOFFSETTO:-0400
TZNAME:EDT
DTSTART:20260308T070000
END:DAYLIGHT
BEGIN:STANDARD
TZOFFSETFROM:-0400
TZOFFSETTO:-0500
TZNAME:EST
DTSTART:20261101T060000
END:STANDARD
BEGIN:DAYLIGHT
TZOFFSETFROM:-0500
TZOFFSETTO:-0400
TZNAME:EDT
DTSTART:20270314T070000
END:DAYLIGHT
BEGIN:STANDARD
TZOFFSETFROM:-0400
TZOFFSETTO:-0500
TZNAME:EST
DTSTART:20271107T060000
END:STANDARD
BEGIN:DAYLIGHT
TZOFFSETFROM:-0500
TZOFFSETTO:-0400
TZNAME:EDT
DTSTART:20280312T070000
END:DAYLIGHT
BEGIN:STANDARD
TZOFFSETFROM:-0400
TZOFFSETTO:-0500
TZNAME:EST
DTSTART:20281105T060000
END:STANDARD
END:VTIMEZONE
BEGIN:VEVENT
DTSTART;VALUE=DATE:20270114
DTEND;VALUE=DATE:20270115
DTSTAMP:20260419T090439
CREATED:20250922T194809Z
LAST-MODIFIED:20250922T195129Z
UID:10000259-1799884800-1799971199@ofmc.org
SUMMARY:District III-C Festival Application Deadline
DESCRIPTION:District III-C Junior Music Festival is February 21\, 2026. \nFestival Chair\, Ellen Raquet \nGold Cup Chair\, Leah Estes
URL:https://ofmc.org/event/district-iii-c-festival-application-deadline-2/2027-01-14/
CATEGORIES:Festivals
ORGANIZER;CN="Ellen Raquet":MAILTO:ellen.g.raquet@gmail.com
END:VEVENT
BEGIN:VEVENT
DTSTART;VALUE=DATE:20270116
DTEND;VALUE=DATE:20270117
DTSTAMP:20260419T090439
CREATED:20250922T193135Z
LAST-MODIFIED:20250922T193206Z
UID:10000246-1800057600-1800143999@ofmc.org
SUMMARY:District II Festival Application Deadline
DESCRIPTION:District II Junior Music Festival is March 7 and 14\, 2026. \nFestival Chair\, Marie Nichols \nGold Cup Chair\, Andrea Keil
URL:https://ofmc.org/event/district-ii-festival-application-deadline-2/2027-01-16/
LOCATION:Ohio Wesleyan University
CATEGORIES:Festivals
ORGANIZER;CN="Marie Nichols":MAILTO:nmusiccenter@mail.com
END:VEVENT
BEGIN:VEVENT
DTSTART;TZID=America/Detroit:20270121T080000
DTEND;TZID=America/Detroit:20270121T170000
DTSTAMP:20260419T090439
CREATED:20250922T142048Z
LAST-MODIFIED:20250922T142241Z
UID:10000226-1800518400-1800550800@ofmc.org
SUMMARY:District I-A Festival Application Deadline
DESCRIPTION:District I-A Junior Music Festival is March 14-16\, 2025 \nFestival Chair\, Patti Evans \nGold Cup Chair\, Cecilia He
URL:https://ofmc.org/event/district-i-a-festival-application-deadline-2/2027-01-21/
LOCATION:Cleveland Music Settlement
CATEGORIES:Festivals
ORGANIZER;CN="Patti Evans":MAILTO:ofmcfestival1a@gmail.com
END:VEVENT
BEGIN:VEVENT
DTSTART;VALUE=DATE:20270123
DTEND;VALUE=DATE:20270124
DTSTAMP:20260419T090439
CREATED:20250922T192422Z
LAST-MODIFIED:20250922T192423Z
UID:10000238-1800662400-1800748799@ofmc.org
SUMMARY:District I-D Festival Application Deadline
DESCRIPTION:District I-D Junior Music Festival is March 7\, 2026. \nFestival Chair\, Coren Mino \nFestival Co-Chair\, Ashley Fair \nGold Cup Chair\, Ellen Backman
URL:https://ofmc.org/event/district-i-d-festival-application-deadline-2/2027-01-23/
CATEGORIES:Festivals
ORGANIZER;CN="Coren Mino":MAILTO:ofmc1d@gmail.com
END:VEVENT
BEGIN:VEVENT
DTSTART;VALUE=DATE:20270130
DTEND;VALUE=DATE:20270131
DTSTAMP:20260419T090439
CREATED:20250922T193844Z
LAST-MODIFIED:20250922T193845Z
UID:10000251-1801267200-1801353599@ofmc.org
SUMMARY:District III-A Festival Application Deadline
DESCRIPTION:District III-A Junior Music Festival is March 21\, 2026. \nFestival Chair\, Irene Sakelos \nGold Cup Chair\, Irene Sakelos \n 
URL:https://ofmc.org/event/district-iii-a-festival-application-deadline-2/2027-01-30/
CATEGORIES:Festivals
ORGANIZER;CN="Irene Sakelos":MAILTO:jamminmelody@aol.com
END:VEVENT
END:VCALENDAR