BEGIN:VCALENDAR
VERSION:2.0
PRODID:-//The Ohio Federation of Music Clubs - ECPv6.15.20//NONSGML v1.0//EN
CALSCALE:GREGORIAN
METHOD:PUBLISH
X-ORIGINAL-URL:https://ofmc.org
X-WR-CALDESC:Events for The Ohio Federation of Music Clubs
REFRESH-INTERVAL;VALUE=DURATION:PT1H
X-Robots-Tag:noindex
X-PUBLISHED-TTL:PT1H
BEGIN:VTIMEZONE
TZID:America/Detroit
BEGIN:DAYLIGHT
TZOFFSETFROM:-0500
TZOFFSETTO:-0400
TZNAME:EDT
DTSTART:20270314T070000
END:DAYLIGHT
BEGIN:STANDARD
TZOFFSETFROM:-0400
TZOFFSETTO:-0500
TZNAME:EST
DTSTART:20271107T060000
END:STANDARD
BEGIN:DAYLIGHT
TZOFFSETFROM:-0500
TZOFFSETTO:-0400
TZNAME:EDT
DTSTART:20280312T070000
END:DAYLIGHT
BEGIN:STANDARD
TZOFFSETFROM:-0400
TZOFFSETTO:-0500
TZNAME:EST
DTSTART:20281105T060000
END:STANDARD
BEGIN:DAYLIGHT
TZOFFSETFROM:-0500
TZOFFSETTO:-0400
TZNAME:EDT
DTSTART:20290311T070000
END:DAYLIGHT
BEGIN:STANDARD
TZOFFSETFROM:-0400
TZOFFSETTO:-0500
TZNAME:EST
DTSTART:20291104T060000
END:STANDARD
END:VTIMEZONE
BEGIN:VEVENT
DTSTART;VALUE=DATE:20280303
DTEND;VALUE=DATE:20280305
DTSTAMP:20260421T094544
CREATED:20241123T210331Z
LAST-MODIFIED:20250922T194619Z
UID:10000090-1835654400-1835827199@ofmc.org
SUMMARY:District III-B Junior Music Festival
DESCRIPTION:Festival Chair\, Angie Vaubel \nGold Cup Chair\, Jennifer Shoup \nApplication Deadline is December 12\, 2025.
URL:https://ofmc.org/event/district-iii-b-junior-music-festival/2028-03-03/
LOCATION:The Piano Preparatory School\, 41 Grange Hall Rd.\, Beavercreek\, 45430\, United States
CATEGORIES:Festivals
ORGANIZER;CN="Angie Vaubel":MAILTO:angie@vaubel.net
END:VEVENT
BEGIN:VEVENT
DTSTART;VALUE=DATE:20280304
DTEND;VALUE=DATE:20280305
DTSTAMP:20260421T094544
CREATED:20250922T192835Z
LAST-MODIFIED:20250922T192835Z
UID:10000243-1835740800-1835827199@ofmc.org
SUMMARY:District I-D Junior Music Festival
DESCRIPTION:Festival Chair\, Coren Mino \nFestival Co-Chair\, Ashley Fair \nGold Cup Chair\, Ellen Backman \nApplication Deadline is January 24\, 2026.
URL:https://ofmc.org/event/district-i-d-junior-music-festival-2/2028-03-04/
LOCATION:Baldwin Wallace University\, 275 Eastland Rd\, Berea\, OH\, 44017
CATEGORIES:Festivals
ORGANIZER;CN="Coren Mino":MAILTO:ofmc1d@gmail.com
END:VEVENT
BEGIN:VEVENT
DTSTART;VALUE=DATE:20280311
DTEND;VALUE=DATE:20280312
DTSTAMP:20260421T094544
CREATED:20241118T151232Z
LAST-MODIFIED:20250922T191621Z
UID:10000041-1836345600-1836431999@ofmc.org
SUMMARY:District I-B Junior Music Festival
DESCRIPTION:Festival Chair\, Elena Mavar \nGold Cup Chair\, Cindy Cleeland \nApplication Deadline is February 1\, 2025
URL:https://ofmc.org/event/district-i-b/2028-03-11/
LOCATION:Youngstown State University\, 1 Tressel Way\, Youngstown\, OH\, 44555
CATEGORIES:Festivals
ORGANIZER;CN="Elena Mavar":MAILTO:emavar@ymail.com
END:VEVENT
BEGIN:VEVENT
DTSTART;VALUE=DATE:20280313
DTEND;VALUE=DATE:20280316
DTSTAMP:20260421T094544
CREATED:20250922T142620Z
LAST-MODIFIED:20250922T191512Z
UID:10000231-1836518400-1836777599@ofmc.org
SUMMARY:District I-A Junior Music Festival
DESCRIPTION:Festival Chair\, Patti Evans \nGold Cup Chair\, Cecilia He \nApplication deadline is January 15\, 2025
URL:https://ofmc.org/event/district-i-a-festival-2/2028-03-13/
LOCATION:Cleveland Music Settlement
CATEGORIES:Festivals
ORGANIZER;CN="Patti Evans":MAILTO:ofmcfestival1a@gmail.com
END:VEVENT
BEGIN:VEVENT
DTSTART;VALUE=DATE:20280318
DTEND;VALUE=DATE:20280319
DTSTAMP:20260421T094544
CREATED:20250922T194056Z
LAST-MODIFIED:20250922T202903Z
UID:10000254-1836950400-1837036799@ofmc.org
SUMMARY:District III-A Junior Music Festival
DESCRIPTION:Festival Chair\, Irene Sakelos \nGold Cup Chair\, Irene Sakelos \nApplication deadline is January 31\, 2026.
URL:https://ofmc.org/event/district-iii-a-junior-music-festival-2/2028-03-18/
CATEGORIES:Festivals
ORGANIZER;CN="Irene Sakelos":MAILTO:jamminmelody@aol.com
END:VEVENT
BEGIN:VEVENT
DTSTART;VALUE=DATE:20280318
DTEND;VALUE=DATE:20280320
DTSTAMP:20260421T094544
CREATED:20250922T201501Z
LAST-MODIFIED:20250922T201503Z
UID:10000268-1836950400-1837123199@ofmc.org
SUMMARY:District III-F Junior Music Festival
DESCRIPTION:Festival Chair\, Jon Sanford \nGold Cup Chair\, Judy Bohne \nApplication Deadline is January 15\, 2026.
URL:https://ofmc.org/event/district-iii-f-junior-music-festival-2/2028-03-18/
LOCATION:Miami University\, Oxford
CATEGORIES:Festivals
ORGANIZER;CN="Jon Sanford":MAILTO:director@oxfordmusicacademy.com
END:VEVENT
END:VCALENDAR