BEGIN:VCALENDAR
VERSION:2.0
PRODID:-//The Ohio Federation of Music Clubs - ECPv6.15.20//NONSGML v1.0//EN
CALSCALE:GREGORIAN
METHOD:PUBLISH
X-ORIGINAL-URL:https://ofmc.org
X-WR-CALDESC:Events for The Ohio Federation of Music Clubs
REFRESH-INTERVAL;VALUE=DURATION:PT1H
X-Robots-Tag:noindex
X-PUBLISHED-TTL:PT1H
BEGIN:VTIMEZONE
TZID:America/Detroit
BEGIN:DAYLIGHT
TZOFFSETFROM:-0500
TZOFFSETTO:-0400
TZNAME:EDT
DTSTART:20240310T070000
END:DAYLIGHT
BEGIN:STANDARD
TZOFFSETFROM:-0400
TZOFFSETTO:-0500
TZNAME:EST
DTSTART:20241103T060000
END:STANDARD
BEGIN:DAYLIGHT
TZOFFSETFROM:-0500
TZOFFSETTO:-0400
TZNAME:EDT
DTSTART:20250309T070000
END:DAYLIGHT
BEGIN:STANDARD
TZOFFSETFROM:-0400
TZOFFSETTO:-0500
TZNAME:EST
DTSTART:20251102T060000
END:STANDARD
BEGIN:DAYLIGHT
TZOFFSETFROM:-0500
TZOFFSETTO:-0400
TZNAME:EDT
DTSTART:20260308T070000
END:DAYLIGHT
BEGIN:STANDARD
TZOFFSETFROM:-0400
TZOFFSETTO:-0500
TZNAME:EST
DTSTART:20261101T060000
END:STANDARD
END:VTIMEZONE
BEGIN:VEVENT
DTSTART;VALUE=DATE:20250115
DTEND;VALUE=DATE:20250116
DTSTAMP:20260425T150322
CREATED:20241123T213036Z
LAST-MODIFIED:20250922T201156Z
UID:10000106-1736899200-1736985599@ofmc.org
SUMMARY:District III-F Festival Application Deadline
DESCRIPTION:District III-F Junior Music Festival is March 20-21\, 2026. \nFestival Chair\, Jon Sanford \nGold Cup Chair\, Judy Bohne \n 
URL:https://ofmc.org/event/district-iii-f-festival-application-deadline/
CATEGORIES:Festivals
ORGANIZER;CN="Jon Sanford":MAILTO:director@oxfordmusicacademy.com
END:VEVENT
BEGIN:VEVENT
DTSTART;TZID=America/Detroit:20250115T080000
DTEND;TZID=America/Detroit:20250115T170000
DTSTAMP:20260425T150322
CREATED:20241122T212223Z
LAST-MODIFIED:20241122T212223Z
UID:10000043-1736928000-1736960400@ofmc.org
SUMMARY:District I-A Festival Application Deadline
DESCRIPTION:District I-A Junior Music Festival is March 14-16\, 2025 \nFestival Chair\, Patti Evans \nGold Cup Chair\, Karen Spisak
URL:https://ofmc.org/event/district-i-a-festival-application-deadline/
CATEGORIES:Festivals
ORGANIZER;CN="Patti Evans":MAILTO:ofmcfestival1a@gmail.com
END:VEVENT
END:VCALENDAR