BEGIN:VCALENDAR
VERSION:2.0
PRODID:-//The Ohio Federation of Music Clubs - ECPv6.15.20//NONSGML v1.0//EN
CALSCALE:GREGORIAN
METHOD:PUBLISH
X-WR-CALNAME:The Ohio Federation of Music Clubs
X-ORIGINAL-URL:https://ofmc.org
X-WR-CALDESC:Events for The Ohio Federation of Music Clubs
REFRESH-INTERVAL;VALUE=DURATION:PT1H
X-Robots-Tag:noindex
X-PUBLISHED-TTL:PT1H
BEGIN:VTIMEZONE
TZID:America/Detroit
BEGIN:DAYLIGHT
TZOFFSETFROM:-0500
TZOFFSETTO:-0400
TZNAME:EDT
DTSTART:20270314T070000
END:DAYLIGHT
BEGIN:STANDARD
TZOFFSETFROM:-0400
TZOFFSETTO:-0500
TZNAME:EST
DTSTART:20271107T060000
END:STANDARD
BEGIN:DAYLIGHT
TZOFFSETFROM:-0500
TZOFFSETTO:-0400
TZNAME:EDT
DTSTART:20280312T070000
END:DAYLIGHT
BEGIN:STANDARD
TZOFFSETFROM:-0400
TZOFFSETTO:-0500
TZNAME:EST
DTSTART:20281105T060000
END:STANDARD
BEGIN:DAYLIGHT
TZOFFSETFROM:-0500
TZOFFSETTO:-0400
TZNAME:EDT
DTSTART:20290311T070000
END:DAYLIGHT
BEGIN:STANDARD
TZOFFSETFROM:-0400
TZOFFSETTO:-0500
TZNAME:EST
DTSTART:20291104T060000
END:STANDARD
END:VTIMEZONE
BEGIN:VEVENT
DTSTART;TZID=America/Detroit:20280120T080000
DTEND;TZID=America/Detroit:20280120T170000
DTSTAMP:20260420T125432
CREATED:20250922T142048Z
LAST-MODIFIED:20250922T142241Z
UID:10000227-1831968000-1832000400@ofmc.org
SUMMARY:District I-A Festival Application Deadline
DESCRIPTION:District I-A Junior Music Festival is March 14-16\, 2025 \nFestival Chair\, Patti Evans \nGold Cup Chair\, Cecilia He
URL:https://ofmc.org/event/district-i-a-festival-application-deadline-2/2028-01-20/
LOCATION:Cleveland Music Settlement
CATEGORIES:Festivals
ORGANIZER;CN="Patti Evans":MAILTO:ofmcfestival1a@gmail.com
END:VEVENT
END:VCALENDAR