BEGIN:VCALENDAR
VERSION:2.0
PRODID:-//The Ohio Federation of Music Clubs - ECPv6.15.20//NONSGML v1.0//EN
CALSCALE:GREGORIAN
METHOD:PUBLISH
X-ORIGINAL-URL:https://ofmc.org
X-WR-CALDESC:Events for The Ohio Federation of Music Clubs
REFRESH-INTERVAL;VALUE=DURATION:PT1H
X-Robots-Tag:noindex
X-PUBLISHED-TTL:PT1H
BEGIN:VTIMEZONE
TZID:America/Detroit
BEGIN:DAYLIGHT
TZOFFSETFROM:-0500
TZOFFSETTO:-0400
TZNAME:EDT
DTSTART:20280312T070000
END:DAYLIGHT
BEGIN:STANDARD
TZOFFSETFROM:-0400
TZOFFSETTO:-0500
TZNAME:EST
DTSTART:20281105T060000
END:STANDARD
BEGIN:DAYLIGHT
TZOFFSETFROM:-0500
TZOFFSETTO:-0400
TZNAME:EDT
DTSTART:20290311T070000
END:DAYLIGHT
BEGIN:STANDARD
TZOFFSETFROM:-0400
TZOFFSETTO:-0500
TZNAME:EST
DTSTART:20291104T060000
END:STANDARD
BEGIN:DAYLIGHT
TZOFFSETFROM:-0500
TZOFFSETTO:-0400
TZNAME:EDT
DTSTART:20300310T070000
END:DAYLIGHT
BEGIN:STANDARD
TZOFFSETFROM:-0400
TZOFFSETTO:-0500
TZNAME:EST
DTSTART:20301103T060000
END:STANDARD
END:VTIMEZONE
BEGIN:VEVENT
DTSTART;VALUE=DATE:20290302
DTEND;VALUE=DATE:20290304
DTSTAMP:20260422T181533
CREATED:20241123T210331Z
LAST-MODIFIED:20250922T194619Z
UID:10000091-1867104000-1867276799@ofmc.org
SUMMARY:District III-B Junior Music Festival
DESCRIPTION:Festival Chair\, Angie Vaubel \nGold Cup Chair\, Jennifer Shoup \nApplication Deadline is December 12\, 2025.
URL:https://ofmc.org/event/district-iii-b-junior-music-festival/2029-03-02/
LOCATION:The Piano Preparatory School\, 41 Grange Hall Rd.\, Beavercreek\, 45430\, United States
CATEGORIES:Festivals
ORGANIZER;CN="Angie Vaubel":MAILTO:angie@vaubel.net
END:VEVENT
BEGIN:VEVENT
DTSTART;VALUE=DATE:20290303
DTEND;VALUE=DATE:20290304
DTSTAMP:20260422T181533
CREATED:20250922T192835Z
LAST-MODIFIED:20250922T192835Z
UID:10000244-1867190400-1867276799@ofmc.org
SUMMARY:District I-D Junior Music Festival
DESCRIPTION:Festival Chair\, Coren Mino \nFestival Co-Chair\, Ashley Fair \nGold Cup Chair\, Ellen Backman \nApplication Deadline is January 24\, 2026.
URL:https://ofmc.org/event/district-i-d-junior-music-festival-2/2029-03-03/
LOCATION:Baldwin Wallace University\, 275 Eastland Rd\, Berea\, OH\, 44017
CATEGORIES:Festivals
ORGANIZER;CN="Coren Mino":MAILTO:ofmc1d@gmail.com
END:VEVENT
END:VCALENDAR