BEGIN:VCALENDAR
VERSION:2.0
PRODID:-//The Ohio Federation of Music Clubs - ECPv6.15.20//NONSGML v1.0//EN
CALSCALE:GREGORIAN
METHOD:PUBLISH
X-WR-CALNAME:The Ohio Federation of Music Clubs
X-ORIGINAL-URL:https://ofmc.org
X-WR-CALDESC:Events for The Ohio Federation of Music Clubs
REFRESH-INTERVAL;VALUE=DURATION:PT1H
X-Robots-Tag:noindex
X-PUBLISHED-TTL:PT1H
BEGIN:VTIMEZONE
TZID:America/Detroit
BEGIN:DAYLIGHT
TZOFFSETFROM:-0500
TZOFFSETTO:-0400
TZNAME:EDT
DTSTART:20240310T070000
END:DAYLIGHT
BEGIN:STANDARD
TZOFFSETFROM:-0400
TZOFFSETTO:-0500
TZNAME:EST
DTSTART:20241103T060000
END:STANDARD
BEGIN:DAYLIGHT
TZOFFSETFROM:-0500
TZOFFSETTO:-0400
TZNAME:EDT
DTSTART:20250309T070000
END:DAYLIGHT
BEGIN:STANDARD
TZOFFSETFROM:-0400
TZOFFSETTO:-0500
TZNAME:EST
DTSTART:20251102T060000
END:STANDARD
BEGIN:DAYLIGHT
TZOFFSETFROM:-0500
TZOFFSETTO:-0400
TZNAME:EDT
DTSTART:20260308T070000
END:DAYLIGHT
BEGIN:STANDARD
TZOFFSETFROM:-0400
TZOFFSETTO:-0500
TZNAME:EST
DTSTART:20261101T060000
END:STANDARD
END:VTIMEZONE
BEGIN:VEVENT
DTSTART;TZID=America/Detroit:20250423T200000
DTEND;TZID=America/Detroit:20250423T213000
DTSTAMP:20260422T215255
CREATED:20250127T142028Z
LAST-MODIFIED:20250129T194433Z
UID:10000211-1745438400-1745443800@ofmc.org
SUMMARY:District III Annual Meeting
DESCRIPTION:District 3 Annual Meeting will be held over Zoom Wednesday\, April 23\, 2025 at 8:00 pm. For a link to attend\, please contact Gretchen Germann. \nDistrict 3 Junior Honors Recital will be held Sunday\, April 26\, 2025 at 12:30 pm. Details can be found here.
URL:https://ofmc.org/event/district-3-annual-meeting/
CATEGORIES:Meetings
ORGANIZER;CN="Gretchen Germann":MAILTO:gl_germann@yahoo.com
END:VEVENT
END:VCALENDAR