BEGIN:VCALENDAR
VERSION:2.0
PRODID:-//The Ohio Federation of Music Clubs - ECPv6.15.20//NONSGML v1.0//EN
CALSCALE:GREGORIAN
METHOD:PUBLISH
X-WR-CALNAME:The Ohio Federation of Music Clubs
X-ORIGINAL-URL:https://ofmc.org
X-WR-CALDESC:Events for The Ohio Federation of Music Clubs
REFRESH-INTERVAL;VALUE=DURATION:PT1H
X-Robots-Tag:noindex
X-PUBLISHED-TTL:PT1H
BEGIN:VTIMEZONE
TZID:America/Detroit
BEGIN:DAYLIGHT
TZOFFSETFROM:-0500
TZOFFSETTO:-0400
TZNAME:EDT
DTSTART:20290311T070000
END:DAYLIGHT
BEGIN:STANDARD
TZOFFSETFROM:-0400
TZOFFSETTO:-0500
TZNAME:EST
DTSTART:20291104T060000
END:STANDARD
BEGIN:DAYLIGHT
TZOFFSETFROM:-0500
TZOFFSETTO:-0400
TZNAME:EDT
DTSTART:20300310T070000
END:DAYLIGHT
BEGIN:STANDARD
TZOFFSETFROM:-0400
TZOFFSETTO:-0500
TZNAME:EST
DTSTART:20301103T060000
END:STANDARD
BEGIN:DAYLIGHT
TZOFFSETFROM:-0500
TZOFFSETTO:-0400
TZNAME:EDT
DTSTART:20310309T070000
END:DAYLIGHT
BEGIN:STANDARD
TZOFFSETFROM:-0400
TZOFFSETTO:-0500
TZNAME:EST
DTSTART:20311102T060000
END:STANDARD
END:VTIMEZONE
BEGIN:VEVENT
DTSTART;TZID=America/Detroit:20300101T080000
DTEND;TZID=America/Detroit:20300201T170000
DTSTAMP:20260421T164232
CREATED:20241205T195249Z
LAST-MODIFIED:20241205T195249Z
UID:10000188-1893484800-1896195600@ofmc.org
SUMMARY:Gertrude Sieberling Music Education Scholarship
DESCRIPTION:Award: $1400 \nApplication Deadline February 1 \nChair: George Pope
URL:https://ofmc.org/event/gertrude-sieberling-music-education-scholarship/2030-01-01/
CATEGORIES:Collegiate Division Competitions,Competitions
ORGANIZER;CN="George Pope":MAILTO:gspope@uakron.edu
END:VEVENT
BEGIN:VEVENT
DTSTART;VALUE=DATE:20300203
DTEND;VALUE=DATE:20300204
DTSTAMP:20260421T164232
CREATED:20251107T162558Z
LAST-MODIFIED:20251107T162723Z
UID:10000286-1896307200-1896393599@ofmc.org
SUMMARY:Donald Babcock Junior Composers Awards
DESCRIPTION:Overall State Winners \n1st: $250\, 2nd: $190\, 3rd: $140 \nJunior Class 1: 1st:  $65\, 2nd: $45\, 3rd: $35 \nJunior Class 2: 1st: $80\, 2nd: $55\, 3rd: $45 \nJunior Class 3: 1st: $90\, 2nd: $60\, 3rd: $50 \nJunior Class 4: 1st: $120\, 2nd: $95\, 3rd: $80 \nRULES\nDeadline February 1\nOHIO Junior Composer Directives\nChair: Stephanie Webster-Cheng
URL:https://ofmc.org/event/donald-babcock-junior-composers-awards-2/2030-02-03/
CATEGORIES:Competitions,Junior Division Competitions
ORGANIZER;CN="Stephanie Webster-Cheng":MAILTO:stephanie.webstercheng@gmail.com
END:VEVENT
BEGIN:VEVENT
DTSTART;TZID=America/Detroit:20300415T080000
DTEND;TZID=America/Detroit:20300415T170000
DTSTAMP:20260421T164232
CREATED:20241205T192728Z
LAST-MODIFIED:20260304T134453Z
UID:10000287-1902470400-1902502800@ofmc.org
SUMMARY:Dance Award
DESCRIPTION:For OFMC member University and College Departments \nAward: $1400 \nRULES \nApplication Deadline April 15 \nChair: Mark Koehler
URL:https://ofmc.org/event/dance-award/2030-04-15/
CATEGORIES:Collegiate Division Competitions,Competitions
ORGANIZER;CN="Mark Koehler":MAILTO:mrmark@zoominternet.net
END:VEVENT
BEGIN:VEVENT
DTSTART;VALUE=DATE:20300515
DTEND;VALUE=DATE:20300516
DTSTAMP:20260421T164232
CREATED:20241205T182217Z
LAST-MODIFIED:20260401T193117Z
UID:10000288-1905033600-1905119999@ofmc.org
SUMMARY:Summer Music Camp Awards
DESCRIPTION:Awards: \n\n4-Year Festival Unanimous Superior Winners\, $350 each\nGrades 6-12\, Moderately Difficult level or above for piano and Medium level or above for strings\n\nApplication Deadline: May 15 \nDISTRICTS I AND II OFMC Summer Music Camps – Informational PDF \nDISTRICTS I AND II OFMC Summer Music Camps – Informational PDF \nChair: Nathan Demar
URL:https://ofmc.org/event/summer-music-camp-awards/2030-05-15/
CATEGORIES:Competitions,Junior Division Competitions
ORGANIZER;CN="Nathan Demar":MAILTO:nhdemar@gmail.com
END:VEVENT
END:VCALENDAR