BEGIN:VCALENDAR
VERSION:2.0
PRODID:-//The Ohio Federation of Music Clubs - ECPv6.15.20//NONSGML v1.0//EN
CALSCALE:GREGORIAN
METHOD:PUBLISH
X-ORIGINAL-URL:https://ofmc.org
X-WR-CALDESC:Events for The Ohio Federation of Music Clubs
REFRESH-INTERVAL;VALUE=DURATION:PT1H
X-Robots-Tag:noindex
X-PUBLISHED-TTL:PT1H
BEGIN:VTIMEZONE
TZID:America/Detroit
BEGIN:DAYLIGHT
TZOFFSETFROM:-0500
TZOFFSETTO:-0400
TZNAME:EDT
DTSTART:20230312T070000
END:DAYLIGHT
BEGIN:STANDARD
TZOFFSETFROM:-0400
TZOFFSETTO:-0500
TZNAME:EST
DTSTART:20231105T060000
END:STANDARD
BEGIN:DAYLIGHT
TZOFFSETFROM:-0500
TZOFFSETTO:-0400
TZNAME:EDT
DTSTART:20240310T070000
END:DAYLIGHT
BEGIN:STANDARD
TZOFFSETFROM:-0400
TZOFFSETTO:-0500
TZNAME:EST
DTSTART:20241103T060000
END:STANDARD
BEGIN:DAYLIGHT
TZOFFSETFROM:-0500
TZOFFSETTO:-0400
TZNAME:EDT
DTSTART:20250309T070000
END:DAYLIGHT
BEGIN:STANDARD
TZOFFSETFROM:-0400
TZOFFSETTO:-0500
TZNAME:EST
DTSTART:20251102T060000
END:STANDARD
END:VTIMEZONE
BEGIN:VEVENT
DTSTART;VALUE=DATE:20241201
DTEND;VALUE=DATE:20241202
DTSTAMP:20260424T220437
CREATED:20241123T211735Z
LAST-MODIFIED:20250922T200409Z
UID:10000102-1733011200-1733097599@ofmc.org
SUMMARY:District III-D Festival Application Deadline
DESCRIPTION:District III-D Junior Music Festival is February 28 and March 6-7\, 2026 \nFestival Chair\, Anne Schummer \nGold Cup Chair\, Mayde Robertson
URL:https://ofmc.org/event/district-iii-d-festival-application-deadline/
CATEGORIES:Festivals
ORGANIZER;CN="Anne Schummer":MAILTO:piano@fuse.net
END:VEVENT
END:VCALENDAR