BEGIN:VCALENDAR
VERSION:2.0
PRODID:-//The Ohio Federation of Music Clubs - ECPv6.15.20//NONSGML v1.0//EN
CALSCALE:GREGORIAN
METHOD:PUBLISH
X-WR-CALNAME:The Ohio Federation of Music Clubs
X-ORIGINAL-URL:https://ofmc.org
X-WR-CALDESC:Events for The Ohio Federation of Music Clubs
REFRESH-INTERVAL;VALUE=DURATION:PT1H
X-Robots-Tag:noindex
X-PUBLISHED-TTL:PT1H
BEGIN:VTIMEZONE
TZID:America/Detroit
BEGIN:DAYLIGHT
TZOFFSETFROM:-0500
TZOFFSETTO:-0400
TZNAME:EDT
DTSTART:20250309T070000
END:DAYLIGHT
BEGIN:STANDARD
TZOFFSETFROM:-0400
TZOFFSETTO:-0500
TZNAME:EST
DTSTART:20251102T060000
END:STANDARD
BEGIN:DAYLIGHT
TZOFFSETFROM:-0500
TZOFFSETTO:-0400
TZNAME:EDT
DTSTART:20260308T070000
END:DAYLIGHT
BEGIN:STANDARD
TZOFFSETFROM:-0400
TZOFFSETTO:-0500
TZNAME:EST
DTSTART:20261101T060000
END:STANDARD
BEGIN:DAYLIGHT
TZOFFSETFROM:-0500
TZOFFSETTO:-0400
TZNAME:EDT
DTSTART:20270314T070000
END:DAYLIGHT
BEGIN:STANDARD
TZOFFSETFROM:-0400
TZOFFSETTO:-0500
TZNAME:EST
DTSTART:20271107T060000
END:STANDARD
END:VTIMEZONE
BEGIN:VEVENT
DTSTART;VALUE=DATE:20260301
DTEND;VALUE=DATE:20260302
DTSTAMP:20260419T125744
CREATED:20241122T203127Z
LAST-MODIFIED:20250922T202723Z
UID:10000033-1772323200-1772409599@ofmc.org
SUMMARY:District IV-B Junior Music Festival
DESCRIPTION:Festival Chair\, Sonja Kalb \nGold Cup Chair\, Sonja Kalb \nApplication Deadline for this festival is January 3\, 2026.
URL:https://ofmc.org/event/district-iv-b-junior-festival/
LOCATION:Richland Academy of the Arts\, 75 North Walnut St.\, Mansfield\, OH\, 44902\, United States
CATEGORIES:Festivals
ORGANIZER;CN="Sonja Kalb":MAILTO:fourstarguesthouse@yahoo.com
END:VEVENT
BEGIN:VEVENT
DTSTART;VALUE=DATE:20260307
DTEND;VALUE=DATE:20260308
DTSTAMP:20260419T125744
CREATED:20241122T205738Z
LAST-MODIFIED:20250922T202340Z
UID:10000035-1772841600-1772927999@ofmc.org
SUMMARY:District IV-A Junior Music Festival
DESCRIPTION:Festival Chair\, Denise Eikum \nGold Cup Chair\, Susan Zacharias \nApplication Deadline is November 1\, 2025.
URL:https://ofmc.org/event/district-iv-a-junior-music-festival/
LOCATION:Heidelberg University
CATEGORIES:Festivals
ORGANIZER;CN="Denise Eikum":MAILTO:Deniseeikum@gmail.com
END:VEVENT
END:VCALENDAR